BEGIN:VCALENDAR
VERSION:2.0
PRODID:-//Bousovsko - ECPv4.5.13//NONSGML v1.0//EN
CALSCALE:GREGORIAN
METHOD:PUBLISH
X-WR-CALNAME:Bousovsko
X-ORIGINAL-URL:http://bousovsko.cz
X-WR-CALDESC:Events for Bousovsko
BEGIN:VEVENT
DTSTART;TZID=UTC+2:20191102T075000
DTEND;TZID=UTC+2:20191102T143000
DTSTAMP:20260419T132546
CREATED:20191030T142606Z
LAST-MODIFIED:20191119T214434Z
UID:3415-1572681000-1572705000@bousovsko.cz
SUMMARY:Sádky Střehom a vyrábění krmítek
DESCRIPTION:V sobotu 2. 11. jsme se vydali na výlet do Plakánku\, střehomských sádek a Horního Bousova. Od rána pršelo\, přesto to 13 dětí od výletu neodradilo. A užili jsme si ho náramně. Po cestě jsme si všímali pole rozrytého divokými prasaty\, volavek hodujících na vypuštěném rybníku\, lešení\, které pokrývá celou hlavní věž hradu Kost. Blízko studánky v Plakánku děti objevily skokana štíhlého. Na sádkách ve Střehomi už na nás čekal pan porybný Pacholátko. Vysvětlil nám rozdíl mezi perlínem a ploticí\, vylovil nám štiky\, candáty\, líny\, amura\, sumce a dokonce jednu zlatou rybku\, která plní přání. Velmi poutavě dětem o rybách vyprávěl. Prozradil nám\, kdy se budou lovit rybníky v okolí\, po výlovech se sádky před Vánoci zaplní ještě množstvím kaprů\, pstruhů a dalších ryb\, které jsou nejžádanější na sváteční stůl. Cestou ze Střehomi se nám podařilo na cestě najít krásně vybarvenou polovinu achátové pecky. V hasičské zbrojnici v Horním Bousově jsme si zaslouženě pochutnali na objednané pizze. Kamna příjemně hřála a tak jsme se v dobré náladě pustili do výroby ptačích pochoutek. Podařilo se nám společnými silami vyrobit několik krmítek na slunečnici z plastových lahví\, krmítka ze semínek a loje a množství věnečků z arašídů. Každý si některé odnesl do zahrady nebo za okno. Ostatní krmítka postupně umístíme na Bakovce během zimy. \n\n			\n				\n			\n			\n				\n			\n			\n				\n			\n			\n				\n			\n			\n				\n			\n			\n				\n			\n			\n				\n			\n			\n				\n			\n			\n				\n			\n			\n				\n			\n			\n				\n			\n			\n				\n			\n			\n				\n			\n			\n				\n			\n			\n				\n			\n			\n				\n			\n			\n				\n			\n			\n				\n			\n			\n				\n			\n			\n				\n			\n			\n				\n			\n			\n				\n			\n			\n				\n			\n			\n				\n			\n			\n				\n			\n			\n				\n			\n			\n				\n			\n			\n				\n			\n			\n				\n			\n			\n				\n			\n			\n				\n			\n		\n\n
URL:http://bousovsko.cz/akce/sadky-strehom-a-vyrabeni-krmitek/
CATEGORIES:Výlety přírodovědného kroužku
END:VEVENT
END:VCALENDAR