BEGIN:VCALENDAR
VERSION:2.0
PRODID:-//Bousovsko - ECPv4.5.13//NONSGML v1.0//EN
CALSCALE:GREGORIAN
METHOD:PUBLISH
X-WR-CALNAME:Bousovsko
X-ORIGINAL-URL:http://bousovsko.cz
X-WR-CALDESC:Events for Bousovsko
BEGIN:VEVENT
DTSTART;TZID=UTC+2:20171201T130000
DTEND;TZID=UTC+2:20171201T150000
DTSTAMP:20260419T123102
CREATED:20171119T222048Z
LAST-MODIFIED:20171218T222605Z
UID:1976-1512133200-1512140400@bousovsko.cz
SUMMARY:Schůzka mladší děti
DESCRIPTION:V pátek 1. 12. se sešlo 13 dětí. Byl krásný zimní den plný sluníčka\, namířili jsme si tedy ven\, na Bakovku. Na krmelišti jsme rozvěsili krmítka na semínka z PET lahví (vlastní výroby)\, krmítko na lojové koule a věnečky z arašídů. Za jedinou mrazivou noc může ztratit sýkorka až jednu třetinu své hmotnosti. Jsme rádi\, že ptactvu můžeme ulehčit těžké období a budeme krmítka chodit často doplňovat.\nPak jsme se občerstvili i my teplým čajem\, perníkem a čokoládou. Pokračovali jsme směrem k Rohatsku\, kde rostou keře dočervena obsypané výbornými šípky. Děti si natrhaly domů na čaj. Na keři jsme pozorovali hálku žlabatky růžové\, tak jsme si podrobně vysvětlili\, jak a proč vzniká. Ochutnali jsme také zdravou čerstvou „šípkovou marmeládu“\, která vznikne smáčknutím měkkého šípku. Je plná vitamínů\, nakyslá a velmi chutná.\nPolní cestou jsme se přesunuli k Červenskému rybníku a odtud k Továrenským nádržím. U 1. tabule NS jsme si povídali o kaprovi\, jeho vývoji a stavbě těla. Při zpáteční cestě ke škole jsme si ještě dali poznávačku našich běžných stromů v terénu: topol\, olše\, modřín… \n\n			\n				\n			\n			\n				\n			\n			\n				\n			\n			\n				\n			\n			\n				\n			\n			\n				\n			\n			\n				\n			\n			\n				\n			\n			\n				\n			\n			\n				\n			\n		\n\n
URL:http://bousovsko.cz/akce/schuzka-mladsi-deti-11/
CATEGORIES:Schůzky přírodovědného kroužku
END:VEVENT
END:VCALENDAR