BEGIN:VCALENDAR
VERSION:2.0
PRODID:-//Bousovsko - ECPv4.5.13//NONSGML v1.0//EN
CALSCALE:GREGORIAN
METHOD:PUBLISH
X-WR-CALNAME:Bousovsko
X-ORIGINAL-URL:http://bousovsko.cz
X-WR-CALDESC:Events for Bousovsko
BEGIN:VEVENT
DTSTART;TZID=UTC+2:20200612T130000
DTEND;TZID=UTC+2:20200612T150000
DTSTAMP:20260419T204615
CREATED:20200514T210846Z
LAST-MODIFIED:20200903T205230Z
UID:4034-1591966800-1591974000@bousovsko.cz
SUMMARY:Schůzka závěrečná mladší děti
DESCRIPTION:Po dlouhé době bylo skutečně letní počasí a my jsme se vydali s 15 dětmi na závěrečnou schůzku. Čekání\, než se všichni sejdeme\, nám zpestřila želva řecká jménem Adámek. Majitelem je jeden chlapec z kroužku. Měl želvu dnes ve škole\, a tak ji přinesl ukázat i nám.\nA co jsme všechno stihli? Rozdělali jsme oheň a opekli jsme si hady z těsta a trdelníky. Stativovým dalekohledem jsme pozorovali čapí hnízdo. Na nově vysypané cestě a v kupě kamení jsme našli drobné acháty. Zahráli jsme si hru\, při které jsme si zopakovali\, kde jsme s kroužkem v letošním školním roce byli a co jsme dělali. Občerstvili jsme se melounem a jablíčky. A na závěr děti dostaly malou odměnu: samolepky jarních roslin od ČSOP. A ty nejpilnější\, kteří vynechali jen minimum schůzek\, dostali i knižní odměny.\nO prázdninách se také s kroužkem uvidíme: na akcích ČSOP Klenice\, na včelích schůzkách v DB a na výpravě za kvetoucími hořečky začátkem srpna.\n\nFotky z akce\n
URL:http://bousovsko.cz/akce/schuzka-mladsi-deti-27/
CATEGORIES:Schůzky přírodovědného kroužku
END:VEVENT
END:VCALENDAR