BEGIN:VCALENDAR
VERSION:2.0
PRODID:-//Bousovsko - ECPv4.5.13//NONSGML v1.0//EN
CALSCALE:GREGORIAN
METHOD:PUBLISH
X-WR-CALNAME:Bousovsko
X-ORIGINAL-URL:http://bousovsko.cz
X-WR-CALDESC:Events for Bousovsko
BEGIN:VEVENT
DTSTART;TZID=UTC+2:20170201T144500
DTEND;TZID=UTC+2:20170201T164500
DTSTAMP:20260419T162424
CREATED:20170123T225823Z
LAST-MODIFIED:20170123T225823Z
UID:1221-1485960300-1485967500@bousovsko.cz
SUMMARY:Schůzka - NENÍ!
DESCRIPTION:
URL:http://bousovsko.cz/akce/schuzka-neni-2/
CATEGORIES:Schůzky přírodovědného kroužku
END:VEVENT
END:VCALENDAR