BEGIN:VCALENDAR
VERSION:2.0
PRODID:-//Bousovsko - ECPv4.5.13//NONSGML v1.0//EN
CALSCALE:GREGORIAN
METHOD:PUBLISH
X-WR-CALNAME:Bousovsko
X-ORIGINAL-URL:http://bousovsko.cz
X-WR-CALDESC:Events for Bousovsko
BEGIN:VEVENT
DTSTART;TZID=UTC+2:20170301T144500
DTEND;TZID=UTC+2:20170301T164500
DTSTAMP:20260419T131809
CREATED:20170123T230004Z
LAST-MODIFIED:20170123T230004Z
UID:1223-1488379500-1488386700@bousovsko.cz
SUMMARY:Schůzka - NENÍ!
DESCRIPTION:Jarní prázdniny:-) \n
URL:http://bousovsko.cz/akce/schuzka-neni-3/
CATEGORIES:Schůzky přírodovědného kroužku
END:VEVENT
END:VCALENDAR