BEGIN:VCALENDAR
VERSION:2.0
PRODID:-//Bousovsko - ECPv4.5.13//NONSGML v1.0//EN
CALSCALE:GREGORIAN
METHOD:PUBLISH
X-WR-CALNAME:Bousovsko
X-ORIGINAL-URL:http://bousovsko.cz
X-WR-CALDESC:Events for Bousovsko
BEGIN:VEVENT
DTSTART;TZID=UTC+2:20191101T130000
DTEND;TZID=UTC+2:20191101T150000
DTSTAMP:20260419T120223
CREATED:20191013T200505Z
LAST-MODIFIED:20191120T224801Z
UID:3410-1572613200-1572620400@bousovsko.cz
SUMMARY:Schůzka starší děti
DESCRIPTION:Prvního listopadu se sešlo 13 dětí na „stopovací“ schůzku. Od koupaliště k Červenskému rybníku bylo na trase pečlivě schováno 6 úkolů s přírodovědnou tématikou (určování plodů rostlin\, listů tří druhů javoru\, polodrahokamů\, určování požerků\, peří strakapouda\, sojky a kachny\, vyplnění pracovního listu zaměřeného na plody stromů). Na sedmém stanovišti děti objevily poklad-krabici bonbónů. Posilnili jsme se teplým čajem a prozkoumali jsme obnažený břeh rybníka\, který se chystá na výlov. Našli jsme několik ulit a lastur. Na břehu pak velké množství lišejníku-pukléřky islandské. Na zpáteční cestě jsme si u tabule s kapřím tělem zopakovali rybí anatomii. Naši malí rybáři vnesli zajímavé téma: proč dravé ryby nemají plynový měchýř? Samozřejmě jej při svém způsobu života nepotřebují. Ale zeptáme se při zítřejším výletu do střehomských sádek pana porybného. \n\n			\n				\n			\n			\n				\n			\n			\n				\n			\n			\n				\n			\n			\n				\n			\n			\n				\n			\n			\n				\n			\n			\n				\n			\n			\n				\n			\n			\n				\n			\n			\n				\n			\n			\n				\n			\n			\n				\n			\n			\n				\n			\n			\n				\n			\n			\n				\n			\n		\n\n  \n
URL:http://bousovsko.cz/akce/schuzka-starsi-deti-25/
CATEGORIES:Schůzky přírodovědného kroužku
END:VEVENT
END:VCALENDAR