BEGIN:VCALENDAR
VERSION:2.0
PRODID:-//Bousovsko - ECPv4.5.13//NONSGML v1.0//EN
CALSCALE:GREGORIAN
METHOD:PUBLISH
X-WR-CALNAME:Bousovsko
X-ORIGINAL-URL:http://bousovsko.cz
X-WR-CALDESC:Events for Bousovsko
BEGIN:VEVENT
DTSTART;TZID=UTC+2:20170222T144500
DTEND;TZID=UTC+2:20170222T164500
DTSTAMP:20260419T164213
CREATED:20170123T230203Z
LAST-MODIFIED:20170222T214631Z
UID:1225-1487774700-1487781900@bousovsko.cz
SUMMARY:Schůzka - starší děti - ve škole
DESCRIPTION:Počasí dnes nebylo na procházku\, tak jsme se sešli ve školní třídě.  Kreslili jsme rudkou všechna vývojová stadia žáby blatnice skvrnité a užovky stromové. Výsledná koláž s námi poputuje do Prachova na výtvarnou soutěž. Během tvoření nám Lenka pouštěla hlasy obojživelníků a ptáků. Také jsme se od ní dověděli mnoho zajímavostí o těchto tvorech.\nDalším bodem programu byla zábavná hra\, která spočívala ve hledání a řazení siluet českých plazů a obojživelníků\, dohromady 11ti druhů. Děti byly rozděleny na tři družstva a dvěma z nich se podařila stoprocentní úspěšnost. Na závěr schůzky jsme si vyplňovali mločí hádanky a kvízy z Krkonošských čumáčků a zobáčků. \n\n			\n				\n			\n			\n				\n			\n			\n				\n			\n			\n				\n			\n			\n				\n			\n			\n				\n			\n		\n\n
URL:http://bousovsko.cz/akce/schuzka-starsi-deti-6/
CATEGORIES:Schůzky přírodovědného kroužku
END:VEVENT
END:VCALENDAR