BEGIN:VCALENDAR
VERSION:2.0
PRODID:-//Bousovsko - ECPv4.5.13//NONSGML v1.0//EN
CALSCALE:GREGORIAN
METHOD:PUBLISH
X-WR-CALNAME:Bousovsko
X-ORIGINAL-URL:http://bousovsko.cz
X-WR-CALDESC:Events for Bousovsko
BEGIN:VEVENT
DTSTART;TZID=UTC+2:20170125T144500
DTEND;TZID=UTC+2:20170125T164500
DTSTAMP:20260419T175647
CREATED:20170123T225714Z
LAST-MODIFIED:20170128T225829Z
UID:1220-1485355500-1485362700@bousovsko.cz
SUMMARY:Společná schůzka - beseda s myslivcem
DESCRIPTION:V podkroví knihovny proběhla ve středu 25.1. 2017 beseda s myslivcem. Pan Štěpánek měl s sebou loveckého psa\, a tak se děti dověděly\, jak se po myslivecku říká uším\, očím\, nohám…na živém příkladu. Pozorně si vyslechly\, jak se mají zachovat při setkání s cizím psem\, jak správně reagovat na jeho projevy. Během zajímavého výkladu si děti prohlédly jelení a srnčí shozy\, zjistily\, co by způsobily\, kdyby si hladily nalezené srnče nebo zajíčka. \nTaké historické souvislosti kolem myslivosti nás poučily. Hony prý nebyly jen společenskou událostí a zábavou panstva. Byla to také příležitost pro krále\, jak správně zhodnotit organizační\, vůdcovské a jiné vlastnosti jednotlivých rytířů\, aby věděl\, v čem mu mohou být do budoucna nápomocni. Na závěr besedy děti pokládaly zajímavé dotazy\, dotkli jsme se i tématu globálního oteplování\, kdy k nám přicházejí nové druhy zvířat (např. šakal). \n\n			\n				\n			\n			\n				\n			\n			\n				\n			\n			\n				\n			\n			\n				\n			\n			\n				\n			\n			\n				\n			\n			\n				\n			\n			\n				\n			\n			\n				\n			\n			\n				\n			\n			\n				\n			\n			\n				\n			\n			\n				\n			\n			\n				\n			\n			\n				\n			\n			\n				\n			\n			\n				\n			\n			\n				\n			\n			\n				\n			\n			\n				\n			\n			\n				\n			\n			\n				\n			\n			\n				\n			\n		\n\nBeseda se všem velmi líbila. \n
URL:http://bousovsko.cz/akce/spolecna-schuzka-beseda-s-myslivcem/
CATEGORIES:Schůzky přírodovědného kroužku
END:VEVENT
END:VCALENDAR