BEGIN:VCALENDAR
VERSION:2.0
PRODID:-//Bousovsko - ECPv4.5.13//NONSGML v1.0//EN
CALSCALE:GREGORIAN
METHOD:PUBLISH
X-WR-CALNAME:Bousovsko
X-ORIGINAL-URL:http://bousovsko.cz
X-WR-CALDESC:Events for Bousovsko
BEGIN:VEVENT
DTSTART;TZID=UTC+2:20200711T090000
DTEND;TZID=UTC+2:20200711T120000
DTSTAMP:20260419T145152
CREATED:20200216T211447Z
LAST-MODIFIED:20200216T211447Z
UID:3896-1594458000-1594468800@bousovsko.cz
SUMMARY:Za motýly\, brouky a ostatním hmyzem na Babu
DESCRIPTION:Terénní pěší exkurze. Sraz v 9.00 hod. na návsi v Horních Stakorách u naučné cedule. S průvodcem\, emeritním pracovníkem Národního muzea RNDr. Antonínem Kůrkou\, se vypravíme za motýly\, brouky a dalšími zajímavostmi do přírodní rezervace Vrch Baba. Na udržovaných květnatých loukách nad Horními Stakorami lze ještě spatřit mnoho motýlů. Pokusíme se ty nejzajímavější z nich chytit a určit. V lese zase objevíme mnoho hmyzu ve spadaném listí\, na keřích i na bylinách. \n
URL:http://bousovsko.cz/akce/za-motyly-brouky-a-ostatnim-hmyzem-na-babu/
CATEGORIES:Výlety a akce s ČSOP Klenice
END:VEVENT
END:VCALENDAR