BEGIN:VCALENDAR
VERSION:2.0
PRODID:-//Bousovsko - ECPv4.5.13//NONSGML v1.0//EN
CALSCALE:GREGORIAN
METHOD:PUBLISH
X-WR-CALNAME:Bousovsko
X-ORIGINAL-URL:http://bousovsko.cz
X-WR-CALDESC:Events for Bousovsko
BEGIN:VEVENT
DTSTART;TZID=UTC+2:20170421T074500
DTEND;TZID=UTC+2:20170422T120000
DTSTAMP:20260419T123118
CREATED:20170215T222514Z
LAST-MODIFIED:20170419T202949Z
UID:1328-1492760700-1492862400@bousovsko.cz
SUMMARY:Soutěž Zlatý list a za obojživelníky do Prachovských skal
DESCRIPTION:Tentokrát se vydáme na speciální výlet\, a to náš první výlet s noclehem a současně na naši první soutěž! \nV pátek (sraz v 7:45 na nádraží) vyrazíme vlakem z Dolního Bousova do Sobotky a odtud autobusem (v 8:35) do Jičína a následně do Prachova. Zde se děti zúčastní základního kola soutěže Zlatý list\, které se koná pod záštitou Muzea Přírody Český ráj. Soutěže se zúčastní týmy dětí z našeho kroužku\, je to určeno pro děti z 1.-3. tříd a 4.-6. tříd\, případně se mohou připojit i mladší děti. Věříme\, že se nám týmy podaří sestavit….. \nPo soutěži navštívíme Muzeum přírody Český ráj\, kde budeme mít dost času prozkoumat zajímavé obojživelníky žijící přímo v tůňkách na zahradě a vyzkoušíme si vybraný vzdělávací program. Přespíme v turistické ubytovně – Turistické centrum Český ráj. V sobotu dojdeme do obce Mladějov\, odkud se vlakem přepravíme zpět do Dolního Bousova\, předpokládaný příjezd ve 12:45. \nVzhledem k tomu\, že jsme obdrželi příspěvek od Města Dolní Bousov\, bude výlet pro děti zdarma. V ubytovně budeme mít zajištěnou i snídani\, oběd prosím dejte dětem vlastní. K večeři pravděpodobně objednáme pizzu nebo je možnost zakoupit jídlo v místní restauraci\, to se ještě rozhodneme. Samozřejmě pokud by třeba někdo nechtěl jet na dva dny\, je možné se domluvit a děti vyzvednout např. v pátek večer přímo v Prachově. Budeme rádi za vaše připomínky a nápady nejen k této akci! \nS sebou: pláštěnku\, psací potřeby\, pokud možno spacák (budou k dispozici deky\, ale aby dětem nebyla zima\, můžete dát k Pavle – Lomená 665 a budou odvezeny a přivezeny autem\, pokud by to děti nepobraly)\, velmi teplé oblečení\, náhradní ponožky\, hygienické potřeby\, přezůvky\, dostatek jídla\, pití\, kapesné… \n
URL:http://bousovsko.cz/akce/za-obojzivelniky-do-prachovskych-skal/
CATEGORIES:Výlety přírodovědného kroužku
END:VEVENT
END:VCALENDAR