BEGIN:VCALENDAR
VERSION:2.0
PRODID:-//Bousovsko - ECPv4.5.13//NONSGML v1.0//EN
CALSCALE:GREGORIAN
METHOD:PUBLISH
X-WR-CALNAME:Bousovsko
X-ORIGINAL-URL:http://bousovsko.cz
X-WR-CALDESC:Events for Bousovsko
BEGIN:VEVENT
DTSTART;TZID=UTC+2:20200626T130000
DTEND;TZID=UTC+2:20200626T150000
DTSTAMP:20260419T190232
CREATED:20200514T211128Z
LAST-MODIFIED:20200903T205411Z
UID:4036-1593176400-1593183600@bousovsko.cz
SUMMARY:Schůzka závěrečná starší děti
DESCRIPTION:Kvůli dešti a záplavám se schůzka plánovaná na 19. 6. přesunula právě na dnešní pátek. Ráno pršelo\, ale po obědě už svítilo slunce a bylo příjemně. Vydali jsme se opět opékat trdelníky a hady z chlebového těsta. Pozorovali jsme čápy na blízkém hnízdě\, povídali jsme si o tom\, co jsme spolu zažili v uplynulém školním roce a na co se kdo o prázdninách těší. Někteří našli pár polodrahokamů na cestě vysypané štěrkem z Kozákova. Pochutnali jsme si na šťavnatém melounu a výborných jahodách. Budeme se těšit na viděnou v září 2020. \nFotky z akce \n
URL:http://bousovsko.cz/akce/zaverecna-schuzka-starsi-deti/
CATEGORIES:Schůzky přírodovědného kroužku
END:VEVENT
END:VCALENDAR