BEGIN:VCALENDAR
VERSION:2.0
PRODID:-//Bousovsko - ECPv4.5.13//NONSGML v1.0//EN
CALSCALE:GREGORIAN
METHOD:PUBLISH
X-WR-CALNAME:Bousovsko
X-ORIGINAL-URL:https://bousovsko.cz
X-WR-CALDESC:Events for Bousovsko
BEGIN:VEVENT
DTSTART;TZID=UTC+2:20230922T130000
DTEND;TZID=UTC+2:20230922T150000
DTSTAMP:20260419T175031
CREATED:20230831T212202Z
LAST-MODIFIED:20231003T215242Z
UID:4502-1695387600-1695394800@bousovsko.cz
SUMMARY:1. schůzka kroužku
DESCRIPTION:Po prodlouženém létě nás na první schůzce přivítal déšť a chladno. Vydali jsme se na Bakovku\, jako každý rok. Cestou jsme se zastavili na cvičících strojích před DPS a vyzkoušeli jsme novou lávku přes Klenici. Vyprávěli jsme si o všem\, co jsme potkali: o stromech a jejich listí\, o houbách a choroších\, o šípcích\, o koních atd. Protože vytrvale mžilo\, zkrátili jsme si plánovanou trasu přes fotbalové hřiště. U bývalého zahradnictví jsme pozorovali krůty\, husy a nandu pampového. U hřiště jsme si sedli pod střechu ke stolu a zahráli jsme si paměťové hry s přírodninami a kartičkovou hru o ptactvu. Nakonec pršet přestalo a děti měly čas si zaskotačit na hřišti.\nhttps://photos.app.goo.gl/pktaDuquW8rnx2156\n
URL:https://bousovsko.cz/akce/1-schuzka-krouzku/
CATEGORIES:Schůzky přírodovědného kroužku
END:VEVENT
END:VCALENDAR