BEGIN:VCALENDAR
VERSION:2.0
PRODID:-//Bousovsko - ECPv4.5.13//NONSGML v1.0//EN
CALSCALE:GREGORIAN
METHOD:PUBLISH
X-WR-CALNAME:Bousovsko
X-ORIGINAL-URL:https://bousovsko.cz
X-WR-CALDESC:Events for Bousovsko
BEGIN:VEVENT
DTSTART;TZID=UTC+2:20191123T090000
DTEND;TZID=UTC+2:20191123T120000
DTSTAMP:20260419T140741
CREATED:20191115T212209Z
LAST-MODIFIED:20191123T222244Z
UID:3423-1574499600-1574510400@bousovsko.cz
SUMMARY:Výsadba stromů v okolí Dolního Bousova - veřejná akce
DESCRIPTION:Jak akce probíhala se DOČTETE ZDE.\n\n
URL:https://bousovsko.cz/akce/3423/
CATEGORIES:Výlety přírodovědného kroužku
END:VEVENT
END:VCALENDAR