BEGIN:VCALENDAR
VERSION:2.0
PRODID:-//Bousovsko - ECPv4.5.13//NONSGML v1.0//EN
CALSCALE:GREGORIAN
METHOD:PUBLISH
X-WR-CALNAME:Bousovsko
X-ORIGINAL-URL:https://bousovsko.cz
X-WR-CALDESC:Events for Bousovsko
BEGIN:VEVENT
DTSTART;TZID=UTC+2:20160408T130000
DTEND;TZID=UTC+2:20160408T150000
DTSTAMP:20260419T222709
CREATED:20160320T221858Z
LAST-MODIFIED:20160416T223458Z
UID:565-1460120400-1460127600@bousovsko.cz
SUMMARY:Schůzka 8.4.2016
DESCRIPTION:Vydali jsme se na pozemek Bartkových na konci Dolního Bousova směrem na Vlčí Pole. Pozorovali jsme stativovým dalekohledem čapí hnízdo\, předváděl se na něm jeden čáp bílý\, který si své hnízdo nyní opravuje a čeká na samičku. Povídali jsme si s dětmi o půdě – o tvorech\, kteří v ní žijí a jak jsou prospěšní. Prohlédli jsme si lupou žížalu a housenku. Děti měly vymyslet\, čím se liší hlína v lese od hlíny na poli. A co dělá půdu úrodnou. Potom jsme si zahráli hru na toto téma. \nRozdělili jsme se na tři skupiny. První skupina – lidé\, kteří produkují odpad\, v tomto případě kuchyňský a zahradní. Na lístečcích byly nakreslené různé druhy odpadu\, děti z nich vybíraly to\, co se na kompost hodí a nosily to do 2.skupiny. 2.skupina sdružovala větší obyvatele kompostu – žížaly\, stínky a chvostoskoky. Ti přinesený „odpad“ rozmělňovali na drobnější kousky a nosili je třetí skupině – půdním mikroorganismům. Děti ze 3. skupiny maličké kousky „odpadů“ lepily na kořeny rostlin namalovaných na plakátu. Když byly rostlinné kořeny plné „živin“\, dařilo se rostlině tak dobře\, že rozkvetla. \nProtože bylo dost chladno\, šli jsme se projít k blízkým ovcím a kozám\, páslo se jich tam i s mláďaty asi 40. Děti je nakrmily. Pak jsme se vrátili\, abychom nasázeli maminkám macešky. Každý si odnášel v květináčku alespoň jednu – až bude svátek matek\, potěší maminku. \n\n			\n				\n			\n			\n				\n			\n			\n				\n			\n		\n\n
URL:https://bousovsko.cz/akce/schuzka-8/
CATEGORIES:Schůzky přírodovědného kroužku
END:VEVENT
END:VCALENDAR