BEGIN:VCALENDAR
VERSION:2.0
PRODID:-//Bousovsko - ECPv4.5.13//NONSGML v1.0//EN
CALSCALE:GREGORIAN
METHOD:PUBLISH
X-WR-CALNAME:Bousovsko
X-ORIGINAL-URL:https://bousovsko.cz
X-WR-CALDESC:Events for Bousovsko
BEGIN:VEVENT
DTSTART;TZID=UTC+2:20231006T130000
DTEND;TZID=UTC+2:20231006T150000
DTSTAMP:20260419T161417
CREATED:20231003T213504Z
LAST-MODIFIED:20231003T214506Z
UID:4506-1696597200-1696604400@bousovsko.cz
SUMMARY:Schůzka kroužku
DESCRIPTION:Sejdeme se jako obvykle u školy a vyrazíme do okolí….. \n
URL:https://bousovsko.cz/akce/schuzka-krouzku/
CATEGORIES:Schůzky přírodovědného kroužku
END:VEVENT
END:VCALENDAR