BEGIN:VCALENDAR
VERSION:2.0
PRODID:-//Bousovsko - ECPv4.5.13//NONSGML v1.0//EN
CALSCALE:GREGORIAN
METHOD:PUBLISH
X-WR-CALNAME:Bousovsko
X-ORIGINAL-URL:https://bousovsko.cz
X-WR-CALDESC:Events for Bousovsko
BEGIN:VEVENT
DTSTART;TZID=UTC+2:20191108T124000
DTEND;TZID=UTC+2:20191108T160000
DTSTAMP:20260419T122932
CREATED:20191013T200907Z
LAST-MODIFIED:20191121T131824Z
UID:3411-1573216800-1573228800@bousovsko.cz
SUMMARY:Schůzka mladší děti-Ekocentrum Zahrada
DESCRIPTION:Dnes jsme v počtu 18 dětí vyrazili do minizoo v Mladé Boleslavi. Cesta vlakem nám rychle uběhla a ač jsme se přepravovali v prostoru pro kola a kočárky\, tím to bylo pro mnohé zábavnější. V boleslavském Ekocentru jsme se setkali s naší průvodkyní\, která s námi postupně probírala jednotlivé chované druhy a informovala nás o různých zajímavostech. Děti nejvíce ocenily přímý kontakt se zvířaty. Nakrmily morčata\, plašily ovečky a pochovaly si i fretku Fredyho\, který opravdu nevoní. Po týdnu pobytu ve škole bylo patrné\, že se dětem hodně líbil volný výběh na místní hřišťátko\, kde by si jistě vyhráli celé odpoledne. \n\n			\n				\n			\n			\n				\n			\n			\n				\n			\n			\n				\n			\n			\n				\n			\n			\n				\n			\n			\n				\n			\n			\n				\n			\n			\n				\n			\n			\n				\n			\n			\n				\n			\n			\n				\n			\n			\n				\n			\n			\n				\n			\n			\n				\n			\n			\n				\n			\n			\n				\n			\n			\n				\n			\n			\n				\n			\n			\n				\n			\n			\n				\n			\n			\n				\n			\n		\n\n
URL:https://bousovsko.cz/akce/schuzka-mladsi-deti-prodlouzena/
CATEGORIES:Schůzky přírodovědného kroužku
END:VEVENT
END:VCALENDAR