BEGIN:VCALENDAR
VERSION:2.0
PRODID:-//Bousovsko - ECPv4.5.13//NONSGML v1.0//EN
CALSCALE:GREGORIAN
METHOD:PUBLISH
X-WR-CALNAME:Bousovsko
X-ORIGINAL-URL:https://bousovsko.cz
X-WR-CALDESC:Events for Bousovsko
BEGIN:VEVENT
DTSTART;TZID=UTC+2:20181214T130000
DTEND;TZID=UTC+2:20181214T150000
DTSTAMP:20260419T172309
CREATED:20181129T112508Z
LAST-MODIFIED:20181129T112533Z
UID:2827-1544792400-1544799600@bousovsko.cz
SUMMARY:Schůzka není!!!
DESCRIPTION:Bude až 21.12. pro obě skupiny dětí….. \n
URL:https://bousovsko.cz/akce/schuzka-neni-5/
END:VEVENT
END:VCALENDAR