BEGIN:VCALENDAR
VERSION:2.0
PRODID:-//Bousovsko - ECPv4.5.13//NONSGML v1.0//EN
CALSCALE:GREGORIAN
METHOD:PUBLISH
X-WR-CALNAME:Bousovsko
X-ORIGINAL-URL:https://bousovsko.cz
X-WR-CALDESC:Events for Bousovsko
BEGIN:VEVENT
DTSTART;TZID=UTC+2:20190419T130000
DTEND;TZID=UTC+2:20190419T150000
DTSTAMP:20260419T135012
CREATED:20190405T072832Z
LAST-MODIFIED:20190405T072832Z
UID:3179-1555678800-1555686000@bousovsko.cz
SUMMARY:Schůzka není - prázdniny
DESCRIPTION:
URL:https://bousovsko.cz/akce/schuzka-neni-prazdniny-4/
CATEGORIES:Schůzky přírodovědného kroužku
END:VEVENT
END:VCALENDAR