BEGIN:VCALENDAR
VERSION:2.0
PRODID:-//Bousovsko - ECPv4.5.13//NONSGML v1.0//EN
CALSCALE:GREGORIAN
METHOD:PUBLISH
X-WR-CALNAME:Bousovsko
X-ORIGINAL-URL:https://bousovsko.cz
X-WR-CALDESC:Events for Bousovsko
BEGIN:VEVENT
DTSTART;TZID=UTC+2:20200124T132000
DTEND;TZID=UTC+2:20200124T164000
DTSTAMP:20260419T204306
CREATED:20200105T220824Z
LAST-MODIFIED:20200223T223607Z
UID:3772-1579872000-1579884000@bousovsko.cz
SUMMARY:Schůzka společná - výroba ptačích budek
DESCRIPTION:Na poslední lednovou společnou schůzku přišlo rekordních 31 dětí. Vypravili jsme se autobusem do Horního Bousova\, kde jsme v hasičské zbrojnici měli připravený prostor pro sestavování hnízdních budek. Materiál na výrobu budek jsme objednali ze stránek „budka jako dárek“\, celkem 10 sýkorníků a dvě netopýří budky. Děti se rozdělily do skupinek po třech. Každá skupinka sestavila alespoň jednu budku. Nejšikovnější skupinky sestavily ještě budky pro netopýry. Do konce schůzky děti stačily dokonce všechny výrobky i natřít.\nZbyl čas také na svačinu\, sestavování puzzle a krátkou procházku po Horním Bousově. Zpátky do Bousova nás dovezl autobus v 16.45.\n\n\n			\n				\n			\n			\n				\n			\n			\n				\n			\n			\n				\n			\n			\n				\n			\n			\n				\n			\n			\n				\n			\n			\n				\n			\n			\n				\n			\n			\n				\n			\n			\n				\n			\n			\n				\n			\n			\n				\n			\n			\n				\n			\n			\n				\n			\n			\n				\n			\n			\n				\n			\n			\n				\n			\n			\n				\n			\n			\n				\n			\n			\n				\n			\n			\n				\n			\n			\n				\n			\n			\n				\n			\n			\n				\n			\n			\n				\n			\n			\n				\n			\n		\n\n\n
URL:https://bousovsko.cz/akce/schuzka-spolecna-vyroba-ptacich-budek/
CATEGORIES:Schůzky přírodovědného kroužku
END:VEVENT
END:VCALENDAR