BEGIN:VCALENDAR
VERSION:2.0
PRODID:-//Bousovsko - ECPv4.5.13//NONSGML v1.0//EN
CALSCALE:GREGORIAN
METHOD:PUBLISH
X-WR-CALNAME:Bousovsko
X-ORIGINAL-URL:https://bousovsko.cz
X-WR-CALDESC:Events for Bousovsko
BEGIN:VEVENT
DTSTART;TZID=UTC+2:20190118T130000
DTEND;TZID=UTC+2:20190118T150000
DTSTAMP:20260419T174734
CREATED:20190110T210816Z
LAST-MODIFIED:20190110T210816Z
UID:2835-1547816400-1547823600@bousovsko.cz
SUMMARY:Schůzka starší děti
DESCRIPTION:Projdeme se v blízkém okolí a druhou polovinu schůzky strávíme v knihovně\, kde si dáme naši perníkovou chaloupku s čajíkem a programem….. \n
URL:https://bousovsko.cz/akce/schuzka-starsi-deti-21/
CATEGORIES:Schůzky přírodovědného kroužku
END:VEVENT
END:VCALENDAR