BEGIN:VCALENDAR
VERSION:2.0
PRODID:-//Bousovsko - ECPv4.5.13//NONSGML v1.0//EN
CALSCALE:GREGORIAN
METHOD:PUBLISH
X-WR-CALNAME:Bousovsko
X-ORIGINAL-URL:https://bousovsko.cz
X-WR-CALDESC:Events for Bousovsko
BEGIN:VEVENT
DTSTART;TZID=UTC+2:20200110T130000
DTEND;TZID=UTC+2:20200110T150000
DTSTAMP:20260419T190402
CREATED:20200105T220406Z
LAST-MODIFIED:20200105T220406Z
UID:3768-1578661200-1578668400@bousovsko.cz
SUMMARY:Schůzka starší děti
DESCRIPTION:Vyrazíme nakrmit ptáčky na Bakovku a pak sebe do knihovny naší krásnou perníkovou chaloupkou:-). \n
URL:https://bousovsko.cz/akce/schuzka-starsi-deti-26/
CATEGORIES:Schůzky přírodovědného kroužku
END:VEVENT
END:VCALENDAR