BEGIN:VCALENDAR
VERSION:2.0
PRODID:-//Bousovsko - ECPv4.5.13//NONSGML v1.0//EN
CALSCALE:GREGORIAN
METHOD:PUBLISH
X-WR-CALNAME:Bousovsko
X-ORIGINAL-URL:https://bousovsko.cz
X-WR-CALDESC:Events for Bousovsko
BEGIN:VEVENT
DTSTART;TZID=UTC+2:20191011T132000
DTEND;TZID=UTC+2:20191011T152000
DTSTAMP:20260419T135311
CREATED:20190918T202001Z
LAST-MODIFIED:20191120T224210Z
UID:3402-1570800000-1570807200@bousovsko.cz
SUMMARY:Schůzka mladší děti - štěrkopískovna Obruby
DESCRIPTION:Dnes jsme se vydali do bývalého lomu na štěrkopísek v Obrubech s mladšími dětmi. Opět jsme našli úlomky karneolů\, několik jaspisů a pár achátů. Nejzajímavějším nálezem byla velká achátová pecka (na fotkách). Po deštích byla spousta bláta hlavně na cestách do pískovny a v pískovně\, kterými jezdí nákladní auta se sutí. Bylo moc dobře\, že s sebou měly děti boty na přezutí. \n\n			\n				\n			\n			\n				\n			\n			\n				\n			\n			\n				\n			\n			\n				\n			\n			\n				\n			\n			\n				\n			\n		\n\n
URL:https://bousovsko.cz/akce/schuzka-starsi-deti-prodlouzena-2/
CATEGORIES:Schůzky přírodovědného kroužku
END:VEVENT
END:VCALENDAR