BEGIN:VCALENDAR
VERSION:2.0
PRODID:-//Bousovsko - ECPv4.5.13//NONSGML v1.0//EN
CALSCALE:GREGORIAN
METHOD:PUBLISH
X-WR-CALNAME:Bousovsko
X-ORIGINAL-URL:https://bousovsko.cz
X-WR-CALDESC:Events for Bousovsko
BEGIN:VEVENT
DTSTART;TZID=UTC+2:20190426T080000
DTEND;TZID=UTC+2:20190426T163000
DTSTAMP:20260419T151803
CREATED:20190305T213925Z
LAST-MODIFIED:20190522T213731Z
UID:3078-1556265600-1556296200@bousovsko.cz
SUMMARY:Soutěž Zlatý list\, schůzka není
DESCRIPTION:V pátek 26. 4. jsme se hned ráno vydali ze Sobotky linkovým autobusem do Jičína. Trasa byla téměř výletní: přes Čálovice a Mladějov. Z Jičína jsme pokračovali do Prachova\, kde se konalo základní kolo soutěže Zlatý list. Po základních informacích se hned děti ve tříčlenných skupinkách vydaly na trať. Dvě tříčlenné hlídky tvořily jedno družstvo a sčítaly se jim dosažené body. Od nás soutěžili v kategorii nejmladších (1. – 3. třída): Maya Hejnová\, Ema Bartková\, Anežka Šťavíková\, Jakub Olbrich\, Adam Havelka a Sofie Musilová. Obsadili krásné druhé místo.\nV kategorii mladších od nás soutěžila dvě družstva. Jedno z nich získalo bramborovou medaili (Pavel Hejn\, Vítek Bartko\, Leona Jakubcová\, Matěj Havelka\, Petr Olbrich a Filip Zima)\, další bylo na sedmém místě (Amelie Březinová\, Tereza Dlasková\, Ondřej Dlask\, Michal Buriánek\, Tomáš Olbrich\, Petra Kindlová). Všem zúčastněným patří velká gratulace! Celý den panovalo letní počasí zpestřené chumelenicí topolového chmýří\, které bez ustání padalo z nebe a lechtalo v nosech.\nPo soutěži jsme  prošli částí Prachovských skal do Holína a odtud na zastávku autobusu do Horního Lochova. Díky páteční dopravní zácpě v Mladé Boleslavi měl náš autobus 45 minut zpoždění! Proto si nás rodiče vyzvedli až v Horním Lochově\, místo plánované Sobotky.\n\n\n			\n				\n			\n			\n				\n			\n			\n				\n			\n			\n				\n			\n			\n				\n			\n			\n				\n			\n			\n				\n			\n			\n				\n			\n			\n				\n			\n			\n				\n			\n			\n				\n			\n			\n				\n			\n			\n				\n			\n			\n				\n			\n			\n				\n			\n			\n				\n			\n			\n				\n			\n			\n				\n			\n			\n				\n			\n			\n				\n			\n			\n				\n			\n			\n				\n			\n			\n				\n			\n			\n				\n			\n			\n				\n			\n			\n				\n			\n			\n				\n			\n			\n				\n			\n			\n				\n			\n			\n				\n			\n			\n				\n			\n			\n				\n			\n			\n				\n			\n			\n				\n			\n			\n				\n			\n			\n				\n			\n			\n				\n			\n			\n				\n			\n			\n				\n			\n			\n				\n			\n			\n				\n			\n			\n				\n			\n		\n\n\n
URL:https://bousovsko.cz/akce/soutez-zlaty-list-pro-vybrane-skupiny-deti/
CATEGORIES:Schůzky přírodovědného kroužku
END:VEVENT
END:VCALENDAR