BEGIN:VCALENDAR
VERSION:2.0
PRODID:-//Bousovsko - ECPv4.5.13//NONSGML v1.0//EN
CALSCALE:GREGORIAN
METHOD:PUBLISH
X-WR-CALNAME:Bousovsko
X-ORIGINAL-URL:https://bousovsko.cz
X-WR-CALDESC:Events for Bousovsko
BEGIN:VEVENT
DTSTART;TZID=UTC+2:20190125T130000
DTEND;TZID=UTC+2:20190125T151500
DTSTAMP:20260419T161602
CREATED:20190110T211123Z
LAST-MODIFIED:20190121T143220Z
UID:2836-1548421200-1548429300@bousovsko.cz
SUMMARY:Společná schůzka
DESCRIPTION:Dnes budeme mít schůzku společnou\, půjdeme na zajímavé povídání o horninách do knihovny\, schůzka bude malinko delší….. \n
URL:https://bousovsko.cz/akce/spolecna-schuzka/
CATEGORIES:Schůzky přírodovědného kroužku
END:VEVENT
END:VCALENDAR