BEGIN:VCALENDAR
VERSION:2.0
PRODID:-//Bousovsko - ECPv4.5.13//NONSGML v1.0//EN
CALSCALE:GREGORIAN
METHOD:PUBLISH
X-WR-CALNAME:Bousovsko
X-ORIGINAL-URL:https://bousovsko.cz
X-WR-CALDESC:Events for Bousovsko
BEGIN:VEVENT
DTSTART;TZID=UTC+2:20190412T144500
DTEND;TZID=UTC+2:20190412T183000
DTSTAMP:20260419T152236
CREATED:20190123T094907Z
LAST-MODIFIED:20190426T213459Z
UID:2973-1555080300-1555093800@bousovsko.cz
SUMMARY:Společná schůzka - výlet na včelí farmu
DESCRIPTION:12. 4. byl velmi chladný den a my jsme se vydali na na včelí farmu Aleše Křoviny do Dolánek u Malé Bělé. Farmář uměl dobře mluvit\, jednoduše dětem vysvětlil všechno důležité kolem včel: jak mají uspořádaný úl\, jakým způsobem mladušky krmí larvy\, aby se z nich vylíhly další dělnice\, trubci nebo nová královna; jak se chovají včely během roku. Viděli jsme vnitřek úlu. Naštěstí bylo velmi chladno\, tak včelky nebyly příliš aktivní  a obešlo se to bez jediného žihadla.\nByli jsme se podívat  ve stáčírně medu\, kde byly stroje na odvíčkování medových pláství a velký medomet\, ze kterého byl med přečerpáván přes sítko do plnicího stroje. Lahev s medem je plněna s přesností na 1g. Viděli jsme také ošetření nových úlů parafínovou lázní – aby se prodloužila jejich životnost. Každý si v obchůdku mohl koupit různé druhy medu – květový\, medovicový nebo pastovaný – jak má kdo rád. K mání byly také vinuté a lité svíčky ze včelího vosku.\nNakonec děti vyplňovali křížovku se včelí tématikou. Dověděly se z ní\, co je ještě důležitější včelí činností\, než výroba medu: opylování. Zpáteční cesta uběhla rychle a pohodlně autobusem.\n\n\n			\n				\n			\n			\n				\n			\n			\n				\n			\n			\n				\n			\n			\n				\n			\n			\n				\n			\n			\n				\n			\n			\n				\n			\n			\n				\n			\n			\n				\n			\n			\n				\n			\n			\n				\n			\n			\n				\n			\n			\n				\n			\n		\n\n\n  \n
URL:https://bousovsko.cz/akce/treninkova-schuzka-na-zlaty-list/
CATEGORIES:Schůzky přírodovědného kroužku
END:VEVENT
END:VCALENDAR