BEGIN:VCALENDAR
VERSION:2.0
PRODID:-//Bousovsko - ECPv4.5.13//NONSGML v1.0//EN
CALSCALE:GREGORIAN
METHOD:PUBLISH
X-WR-CALNAME:Bousovsko
X-ORIGINAL-URL:https://bousovsko.cz
X-WR-CALDESC:Events for Bousovsko
BEGIN:VEVENT
DTSTART;TZID=UTC+2:20181221T123000
DTEND;TZID=UTC+2:20181221T170000
DTSTAMP:20260419T190655
CREATED:20181129T113227Z
LAST-MODIFIED:20190114T132350Z
UID:2830-1545395400-1545411600@bousovsko.cz
SUMMARY:Vánoční schůzka speciál
DESCRIPTION:21. 12. jsme se vydali nejprve se skupinou mladších dětí na salaš do areálu Dětí lesa. Cestou jsme krmili na Pískováku rodinku nutrií. Hladové kachny se s nimi praly o jablka. I mláďata nutrií byla velmi obratná. Později se dospělá nutrie chtěla dostat zpátky na led. Led se ale pod její váhou stále lámal. Hned jsme s dětmi probrali téma tenkého ledu a bezpečnosti. Na Zahrádkách v salaši jsme se občerstvili teplým čajem a cukrovím\, které někteří donesli. Potom jsme si zahráli hru\, vyrobili jsme spoustu arašídových věnečků pro sýkory a také si každý mohl vyzdobit hrnek pomocí fixů na porcelán. Na zpáteční cestě jsme promokli\, protože vytrvale a vydatně pršelo. U školy děti dostaly vlastnoručně vyrobené balíčky (pečený čaj\, svíčky ze včelího vosku\, perníčky).\nU školy jsme se také potkali s druhou skupinkou starších dětí. Po nutriích nebylo v hustém dešti ani stopy. Na Zahrádkách jsme si ukázali stoletou lípu\, zasazenou na jaře r. 1919. V její blízkosti se na jaře chystáme s dětmi zasadit lipku také my. Na salaši jsme se opět občerstvili teplým ovocným čajem a pustili jsme se do výroby arašídových věnečků a zdobení hrnků. Také zbyl čas na písmenkovou hru i na zajímavé čtení o tradici Štědrého večera. Také starší děti si od školy odnášely balíčky s vlastními výrobky.\nTakže: Šťastné a veselé  a na shledanou v příštím roce!\n\n\n			\n				\n			\n			\n				\n			\n			\n				\n			\n			\n				\n			\n			\n				\n			\n			\n				\n			\n			\n				\n			\n			\n				\n			\n			\n				\n			\n			\n				\n			\n			\n				\n			\n			\n				\n			\n			\n				\n			\n			\n				\n			\n			\n				\n			\n		\n\n\n\n
URL:https://bousovsko.cz/akce/vanocni-schuzka-special/
CATEGORIES:Schůzky přírodovědného kroužku
END:VEVENT
END:VCALENDAR