BEGIN:VCALENDAR
VERSION:2.0
PRODID:-//Bousovsko - ECPv4.5.13//NONSGML v1.0//EN
CALSCALE:GREGORIAN
METHOD:PUBLISH
X-WR-CALNAME:Bousovsko
X-ORIGINAL-URL:https://bousovsko.cz
X-WR-CALDESC:Events for Bousovsko
BEGIN:VEVENT
DTSTART;TZID=UTC+2:20231117T090000
DTEND;TZID=UTC+2:20231117T120000
DTSTAMP:20260419T125513
CREATED:20231003T215009Z
LAST-MODIFIED:20231116T125637Z
UID:4514-1700211600-1700222400@bousovsko.cz
SUMMARY:Výsadba stromů z DB do Vlčího Pole
DESCRIPTION:Zveme vás na výsadbu aleje podél silnice z Dolního Bousova do Vlčího Pole…… \n \n
URL:https://bousovsko.cz/akce/vysadba-stromu-z-db-do-vlciho-pole/
CATEGORIES:Výlety přírodovědného kroužku
END:VEVENT
END:VCALENDAR