BEGIN:VCALENDAR
VERSION:2.0
PRODID:-//Bousovsko - ECPv4.5.13//NONSGML v1.0//EN
CALSCALE:GREGORIAN
METHOD:PUBLISH
X-WR-CALNAME:Bousovsko
X-ORIGINAL-URL:https://bousovsko.cz
X-WR-CALDESC:Events for Bousovsko
BEGIN:VEVENT
DTSTART;TZID=UTC+2:20231021T090000
DTEND;TZID=UTC+2:20231021T120000
DTSTAMP:20260419T125441
CREATED:20231003T214855Z
LAST-MODIFIED:20231003T214855Z
UID:4512-1697878800-1697889600@bousovsko.cz
SUMMARY:Výsadba v břízkách
DESCRIPTION:Kdo má zájem\, může se s rodiči zúčastnit výsadby v břízkách…… \n
URL:https://bousovsko.cz/akce/vysadba-v-brizkach/
CATEGORIES:Výlety přírodovědného kroužku
END:VEVENT
END:VCALENDAR